BEGIN:VCALENDAR
VERSION:2.0
PRODID:-//Tukios.com/
BEGIN:VEVENT
UID:fe72e7fa-a5c9-4371-952a-625e8b8e3504@www.rickerfh.com
DTSTAMP:20260420T203856Z
DTSTART:20260430T170000Z
DTEND:20260430T180000Z
SUMMARY:Funeral Service
DESCRIPTION:With interment to follow at Oxbow Cemetery
URL:https://www.rickerfh.com/obituaries/charles-bailey
LOCATION: 1 Birch St  Woodsville NH 03785
GEO:44.1444476;-72.0343944
END:VEVENT
END:VCALENDAR