BEGIN:VCALENDAR
VERSION:2.0
PRODID:-//Tukios.com/
BEGIN:VEVENT
UID:54e0f572-5360-44d6-9613-7cfa30c5af1f@www.rickerfh.com
DTSTAMP:20260424T230601Z
DTSTART:20260521T140000Z
DTEND:20260521T150000Z
SUMMARY:Graveside Service
DESCRIPTION:
URL:https://www.rickerfh.com/obituaries/doreen-white
LOCATION:Groton Village Cemetery Cemetery Road  Groton VT 05046
GEO:44.2041707;-72.1828979
END:VEVENT
END:VCALENDAR